BEGIN:VCALENDAR
VERSION:2.0
PRODID:-//ChamberMaster//Event Calendar 2.0//EN
METHOD:PUBLISH
X-PUBLISHED-TTL:P3D
REFRESH-INTERVAL:P3D
CALSCALE:GREGORIAN
BEGIN:VEVENT
DTSTART;VALUE=DATE:20200123
DTEND;VALUE=DATE:20200127
TRANSP:TRANSPARENT
X-MICROSOFT-CDO-ALLDAYEVENT:TRUE
SUMMARY:2020 Eagles & Agriculture
DESCRIPTION:All are welcome to participate in the Eagles & Ag Photo Contest and the information needed to submit photos for consideration is below...\n\nDownload the Photo Contest Information Here\n\nDownload the Photo Contest Waiver Form Here\n\n \n\n\n\nTo be placed on the e-mail list that will receive first notification when 2021 reservations are available\, please click here. That notice typically goes out in mid to late November. Thanks!!
X-ALT-DESC;FMTTYPE=text/html:<h2 style="text-align: center\;"><br />\n<span style="font-size:14px\;">All are welcome to participate in the Eagles &amp\; Ag Photo Contest and the information needed to submit photos for consideration is below...</span><br style="font-size: 18px\; text-align: center\;" />\nD<a href="https://chambermaster.blob.core.windows.net/userfiles/UserFiles/chambers/820/File/PhotoContestFlyer2020.pdf" style="font-size: 18px\; text-align: center\;">ownload the Photo Contest Information Here</a><br style="font-size: 18px\; text-align: center\;" />\n<a href="https://chambermaster.blob.core.windows.net/userfiles/UserFiles/chambers/820/File/PhotoReleaseForm2020.pdf" style="font-size: 18px\; text-align: center\;">Download the Photo Contest Waiver Form Here</a></h2>\n\n<p>&nbsp\;</p>\n\n<p style="text-align: center\;"><br />\nTo be placed on the e-mail list that will receive first notification when 2021 reservations are available\, <a href="mailto:info@carsonvalleynv.org?subject=2021%20Eagles%20%26%20Ag&amp\;body=Please%20add%20me%20to%20the%20e-mail%20list%20for%20the%202021%20Eagles%20%26%20Ag%20Reservations%20Available%20e-blast.">please click here.</a>&nbsp\;That notice typically goes out in mid to late November. Thanks!!</p>\n
LOCATION:Carson Valley\, Nevada Gardnerville\, Genoa\, Minden and surrounding areas
UID:e.820.32344
SEQUENCE:3
DTSTAMP:20260420T084842Z
URL:https://business.carsonvalleynv.org/events/details/2020-eagles-agriculture-32344
END:VEVENT

END:VCALENDAR
